{"text_format":"1","workbook":"xlsx","n_sheets":1,"sheets":["KOSZTY"],"not_rendered":{"charts":0,"images":0,"macros":0,"external_links":1,"defined_names":0,"comments":0,"pivot_tables":0},"unopened":[],"bounds":{"document_bytes":16777216,"sheet_cells":100000,"rows_first":2000,"rows_last":500,"rows_between":2000,"halvings":0,"cell_chars":16384,"cell_head_chars":4096},"cells_cut":0,"cells_raw":0,"read":"whole","date_system":"1900"}

{"sheet":"KOSZTY","index":0,"n_rows":200,"n_cols":22,"rows_kept":200,"cut":false,"hidden":false,"merged":[[2,8,3,11],[1,2,1,15],[2,1,3,2],[2,3,3,3],[2,4,3,4],[2,5,3,5],[2,6,3,6],[2,13,2,16],[2,7,3,7]]}
[null,null,null,null,null,"WYPEŁNIAĆ TYLKO ŻÓŁTE POLA"]
[null,{"$f":"ROWS(K5:K27)+ROWS(R5:R27)+ROWS(V5:V10)","v":52},"TO SĄ TYLKO PRZYKŁADY TRZEBA WSZYSTKO WŁAŚCIWIE UZUPEŁNIĆ   - B R A K  W S Y S T K I C H  D A N Y C H "]
[null,"PRODUKT (PRODUCTS)",null,"ILOŚĆ QUANTITY","JEDN. UNIT","CENA BRUTTO GROSS COST","CENA NETTO NET PRICE","VAT","ZUŻYCIE NA JEDNO DANIE CONSUMPTION PER ONE MEAL",null,null,null,null,"SPRZEDAŻ SALE PER",null,null,null,null,null,"SUMA",{"$f":"SUM(U5:U10)","v":9028}]
[null,null,null,null,null,null,null,null,null,null,null,null,null,"DZIENNA DAY","TYGOD. WEEK","MIES. MONTH",null,null,null,"ZUŻYCIE MIESIĘCZNE","KWOTA"]
[null,"KEBAB","KURCZAK",1,"kg",16.5,{"$f":"F5*(1-H5)","v":12.870000000000001},0.22,250,"g/szt.",{"$f":"F5/((D5*1000)/I5)","v":4.125},{"$f":"IFERROR(G5/((D5*1000)/I5),0)","v":3.2175000000000002},null,{"$f":"'[1]KBB (Google)'!J4","v":30},{"$f":"N5*7","v":210},{"$f":"O5*30","v":6300},{"$f":"'[1]KBB (Google)'!M4","v":"szt."},{"$f":"IF(COUNTIF(N5:Q5,0)>0,\"DANE NIEPEŁNE\",\"OK\")","v":"OK"},null,"PRĄD",2800,{"$f":"IF(COUNTIF(U5,0)>0,\"DANE NIEPEŁNE\",\"OK\")","v":"OK"}]
[null,null,"WOŁOWINA",1,"kg",13,{"$f":"F6*(1-H6)","v":10.14},0.22,250,"g/szt.",3.25,2.5350000000000001,null,0,0,0,0,"DANE NIEPEŁNE",null,"GAZ",1978,"OK"]
[null,"MIĘSO","BARANINA",1,"kg",22,17.16,0.22,250,"g/szt.",5.5,4.29,null,{"$f":"'[1]KBB (Google)'!J5","v":0},0,0,{"$f":"'[1]KBB (Google)'!M5","v":0},"DANE NIEPEŁNE",null,"WODA",1000,"OK"]
[null,null,"MIESZANY",1,"kg",20,15.600000000000001,0.22,250,"g/szt.",5,3.9000000000000004,null,{"$f":"'[1]KBB (Google)'!J6","v":0},0,0,{"$f":"'[1]KBB (Google)'!M6","v":0},"DANE NIEPEŁNE",null,"CZYNSZ",3250,"OK"]
[null,null,"FALAFEL",1,"kg",15,11.700000000000001,0.22,250,"g/szt.",3.75,2.9250000000000003,null,{"$f":"'[1]KBB (Google)'!J7","v":0},0,0,{"$f":"'[1]KBB (Google)'!M7","v":0},"DANE NIEPEŁNE",null,"PŁACE",{"$f":"'[1]KBB (Google)'!Q8","v":0},"DANE NIEPEŁNE"]
[null,"SOS","ŁAGODNY",1,"L",40,31.200000000000003,0.22,100,"ml/szt.",4,3.12,null,{"$f":"'[1]KBB (Google)'!J8","v":0},0,0,{"$f":"'[1]KBB (Google)'!M8","v":"l"},"DANE NIEPEŁNE",null,"INNE",{"$f":"'[1]KBB (Google)'!Q9","v":0},"DANE NIEPEŁNE"]
[null,null,"OSTRY",1,"L",45,35.1,0.22,100,"ml/szt.",4.5,3.5100000000000002,"ŚR. WAŻ",{"$f":"'[1]KBB (Google)'!J9","v":0},0,0,{"$f":"'[1]KBB (Google)'!M9","v":0},"DANE NIEPEŁNE"]
[null,null,"MIESZANY",1,"L",50,39,0.22,100,"ml/szt.",5,3.9,{"$f":"SUMPRODUCT(K10:K13,I10:I13)/SUM(I10:I13)","v":4.25},{"$f":"'[1]KBB (Google)'!J10","v":0},0,0,{"$f":"'[1]KBB (Google)'!M10","v":0},"DANE NIEPEŁNE"]
[null,null,"SOS POMIDOROWY",1,"L",35,27.3,0.22,100,"ml/szt.",3.5,2.73,null,{"$f":"'[1]KBB (Google)'!J11","v":0},0,0,{"$f":"'[1]KBB (Google)'!M11","v":0},"DANE NIEPEŁNE"]
[null,null,"WARZYWA",1,"L",25,19.5,0.22,100,"ml/szt.",2.5,1.95,null,{"$f":"'[1]KBB (Google)'!J11","v":0},0,0,{"$f":"'[1]KBB (Google)'!M11","v":0},"DANE NIEPEŁNE"]
[null,null,"SURÓWKA",1,"kg",30,23.400000000000002,0.22,100,"g/szt.",3,2.3400000000000003,null,{"$f":"'[1]KBB (Google)'!J12","v":0},0,0,{"$f":"'[1]KBB (Google)'!M12","v":0},"DANE NIEPEŁNE"]
[null,null,"SURÓWKA Z MARCHWI I JABŁKA",1,"kg",30,23.400000000000002,0.22,100,"g/szt.",3,2.3400000000000003,null,{"$f":"'[1]KBB (Google)'!J13","v":0},0,0,{"$f":"'[1]KBB (Google)'!M13","v":"kg"},"DANE NIEPEŁNE"]
[null,null,"NUGETTSY",1,"kg",40,31.200000000000003,0.22,250,"g/szt.",10,7.8000000000000007,null,{"$f":"'[1]KBB (Google)'!J14","v":0},0,0,{"$f":"'[1]KBB (Google)'!M14","v":0},"DANE NIEPEŁNE"]
[null,null,"KRĄŻKI CEBULOWE",1,"kg",35,27.3,0.22,250,"g/szt.",8.75,6.8250000000000002,null,{"$f":"'[1]KBB (Google)'!J15","v":0},0,0,{"$f":"'[1]KBB (Google)'!M15","v":0},"DANE NIEPEŁNE"]
[null,null,"MAKARON",1,"kg",25,19.5,0.22,250,"g/szt.",6.25,4.875,null,{"$f":"'[1]KBB (Google)'!J16","v":0},0,0,{"$f":"'[1]KBB (Google)'!M16","v":0},"DANE NIEPEŁNE"]
[null,null,"FRYTKI",1,"kg",15,11.700000000000001,0.22,250,"g/szt.",3.75,2.9250000000000003,null,{"$f":"'[1]KBB (Google)'!J18","v":0},0,0,{"$f":"'[1]KBB (Google)'!M18","v":0},"DANE NIEPEŁNE"]
[null,null,"RYŻ",1,"kg",15,11.700000000000001,0.22,250,"g/szt.",3.75,2.9250000000000003,null,{"$f":"'[1]KBB (Google)'!J19","v":0},0,0,{"$f":"'[1]KBB (Google)'!M19","v":0},"DANE NIEPEŁNE"]
[null,null,"ZIEMNIAKI PANIEROWANE",1,"kg",20,15.600000000000001,0.22,250,"g/szt.",5,3.9000000000000004,null,{"$f":"'[1]KBB (Google)'!J20","v":0},0,0,{"$f":"'[1]KBB (Google)'!M20","v":0},"DANE NIEPEŁNE"]
[null,"SAŁATKI","GRECKA",1,"kg",36,28.080000000000002,0.22,200,"g/szt.",7.2,5.6160000000000005,null,{"$f":"'[1]KBB (Google)'!J21","v":0},0,0,{"$f":"'[1]KBB (Google)'!M21","v":0},"DANE NIEPEŁNE"]
[null,null,"Z KURCZAKIEM",1,"kg",48,37.44,0.22,200,"g/szt.",9.6,7.4879999999999995,null,{"$f":"'[1]KBB (Google)'!J22","v":0},0,0,{"$f":"'[1]KBB (Google)'!M22","v":0},"DANE NIEPEŁNE"]
[null,null,"Z TUŃCZYKIEM",1,"kg",52,40.56,0.22,200,"g/szt.",10.4,8.1120000000000001,null,{"$f":"'[1]KBB (Google)'!J23","v":0},0,0,{"$f":"'[1]KBB (Google)'!M23","v":0},"DANE NIEPEŁNE"]
[null,null,"HUMUS",1,"kg",22,17.16,0.22,200,"g/szt.",4.4000000000000004,3.4319999999999999,null,{"$f":"'[1]KBB (Google)'!J24","v":0},0,0,{"$f":"'[1]KBB (Google)'!M24","v":0},"DANE NIEPEŁNE"]
[null,null,"BAKLAWA",1,"kg",50,39,0.22,100,"g/szt.",5,3.9,null,{"$f":"'[1]KBB (Google)'!J25","v":0},0,0,{"$f":"'[1]KBB (Google)'!M25","v":0},"DANE NIEPEŁNE"]
[null,null,"FOLIA spożywcza",1,"szt.",10,7.7,0.23,100,"g/szt.",1,0.77,null,{"$f":"'[1]KBB (Google)'!J26","v":0},0,0,{"$f":"'[1]KBB (Google)'!M26","v":0},"DANE NIEPEŁNE"]
[null,null,"CZOSNEK GRANULOWANY",1,"szt.",10,9.2000000000000011,0.08,100,"g/szt.",1,0.92000000000000015,null,{"$f":"'[1]KBB (Google)'!J27","v":0},{"$f":"N29*7","v":0},{"$f":"O29*30","v":0},{"$f":"'[1]KBB (Google)'!M27","v":0},{"$f":"IF(COUNTIF(N29:Q29,0)>0,\"DANE NIEPEŁNE\",\"OK\")","v":"DANE NIEPEŁNE"}]
[null,null,"KETCHUP ŁAGODNY 5 kg",1,"kg",10,9.2000000000000011,0.08,100,"g/szt.",1,0.92000000000000015,null,{"$f":"'[1]KBB (Google)'!J28","v":0},0,0,{"$f":"'[1]KBB (Google)'!M28","v":0},"DANE NIEPEŁNE"]
[null,null,"JOGURT NATURALNY 10% 10L",1,"l",10,9.2000000000000011,0.08,100,"g/szt.",1,0.92000000000000015,null,{"$f":"'[1]KBB (Google)'!J29","v":0},0,0,{"$f":"'[1]KBB (Google)'!M29","v":0},"DANE NIEPEŁNE"]
[null,null,"BAZA MAJONEZOWA 10 kg",1,"kg",10,9.2000000000000011,0.08,100,"g/szt.",1,0.92000000000000015,null,{"$f":"'[1]KBB (Google)'!J30","v":0},0,0,{"$f":"'[1]KBB (Google)'!M30","v":0},"DANE NIEPEŁNE"]
[null,null,"KAPUSTA PEKINSKA",1,"kg",10,9.2000000000000011,0.08,100,"g/szt.",1,0.92000000000000015,null,{"$f":"'[1]KBB (Google)'!J31","v":0},0,0,{"$f":"'[1]KBB (Google)'!M31","v":0},"DANE NIEPEŁNE"]
[null,null,"KAPUSTA BIALA",1,"kg",10,9.2000000000000011,0.08,100,"g/szt.",1,0.92000000000000015,null,{"$f":"'[1]KBB (Google)'!J32","v":0},0,0,{"$f":"'[1]KBB (Google)'!M32","v":0},"DANE NIEPEŁNE"]
[null,null,"OGOREK",1,"kg",10,9.2000000000000011,0.08,100,"g/szt.",1,0.92000000000000015,null,{"$f":"'[1]KBB (Google)'!J33","v":0},0,0,{"$f":"'[1]KBB (Google)'!M33","v":0},"DANE NIEPEŁNE"]
[null,null,"CEBULA CZERWONA",1,"kg",10,9.2000000000000011,0.08,100,"g/szt.",1,0.92000000000000015,null,{"$f":"'[1]KBB (Google)'!J34","v":0},0,0,{"$f":"'[1]KBB (Google)'!M34","v":0},"DANE NIEPEŁNE"]
[null,null,"CEBULA BIALA",1,"kg",10,9.2000000000000011,0.08,100,"g/szt.",{"$f":"F37/((D37*1000)/I37)","v":1},{"$f":"IFERROR(G37/((D37*1000)/I37),0)","v":0.92000000000000015},null,{"$f":"'[1]KBB (Google)'!J35","v":0},0,0,{"$f":"'[1]KBB (Google)'!M35","v":0},"DANE NIEPEŁNE"]
[null,null,"SALATA LADOWA",1,"szt.",10,9.2000000000000011,0.08,100,"g/szt.",1,0.92000000000000015,null,{"$f":"'[1]KBB (Google)'!J36","v":0},0,0,{"$f":"'[1]KBB (Google)'!M36","v":0},"DANE NIEPEŁNE"]
[null,null,"KAPUSTA PEKINSKA",1,"kg",10,9.2000000000000011,0.08,100,"g/szt.",1,0.92000000000000015,null,{"$f":"'[1]KBB (Google)'!J37","v":0},0,0,{"$f":"'[1]KBB (Google)'!M37","v":0},"DANE NIEPEŁNE"]
[null,null,"POMIDOR",1,"kg",10,9.2000000000000011,0.08,100,"g/szt.",1,0.92000000000000015,null,{"$f":"'[1]KBB (Google)'!J38","v":0},0,0,{"$f":"'[1]KBB (Google)'!M38","v":0},"DANE NIEPEŁNE"]
[null,null,"PAPRYKA MIX",1,"kg",10,9.2000000000000011,0.08,100,"g/szt.",1,0.92000000000000015,null,{"$f":"'[1]KBB (Google)'!J39","v":0},0,0,{"$f":"'[1]KBB (Google)'!M39","v":0},"DANE NIEPEŁNE"]
[null,null,"MARCHEW",1,"kg",10,9.2000000000000011,0.08,100,"g/szt.",1,0.92000000000000015,null,{"$f":"'[1]KBB (Google)'!J40","v":0},0,0,{"$f":"'[1]KBB (Google)'!M40","v":0},"DANE NIEPEŁNE"]
[null,null,"ZIEMNIAKI",1,"kg",10,9.2000000000000011,0.08,100,"g/szt.",1,0.92000000000000015,null,{"$f":"'[1]KBB (Google)'!J41","v":0},0,0,{"$f":"'[1]KBB (Google)'!M41","v":0},"DANE NIEPEŁNE"]
[null,null,"CEBULA CZERWONA",1,"kg",10,9.2000000000000011,0.08,100,"g/szt.",1,0.92000000000000015,null,{"$f":"'[1]KBB (Google)'!J42","v":0},0,0,{"$f":"'[1]KBB (Google)'!M42","v":0},"DANE NIEPEŁNE"]
[null,null,"SALATA LADOWA",1,"szt.",10,9.2000000000000011,0.08,100,"g/szt.",1,0.92000000000000015,null,{"$f":"'[1]KBB (Google)'!J43","v":0},0,0,{"$f":"'[1]KBB (Google)'!M43","v":0},"DANE NIEPEŁNE"]
[null,null,"KAPUSTA BIALA",1,"kg",10,9.2000000000000011,0.08,100,"g/szt.",1,0.92000000000000015,null,{"$f":"'[1]KBB (Google)'!J44","v":0},0,0,{"$f":"'[1]KBB (Google)'!M44","v":0},"DANE NIEPEŁNE"]
[null,null,"KAPUSTA BIALA",1,"kg",10,9.2000000000000011,0.08,100,"g/szt.",1,0.92000000000000015,null,{"$f":"'[1]KBB (Google)'!J45","v":0},0,0,{"$f":"'[1]KBB (Google)'!M45","v":0},"DANE NIEPEŁNE"]
[null,null,"KAPUSTA PEKINSKA",1,"kg",10,9.2000000000000011,0.08,100,"g/szt.",1,0.92000000000000015,null,{"$f":"'[1]KBB (Google)'!J46","v":0},0,0,{"$f":"'[1]KBB (Google)'!M46","v":0},"DANE NIEPEŁNE"]
[null,null,"OGOREK",1,"kg",10,9.2000000000000011,0.08,100,"g/szt.",1,0.92000000000000015,null,{"$f":"'[1]KBB (Google)'!J47","v":0},0,0,{"$f":"'[1]KBB (Google)'!M47","v":0},"DANE NIEPEŁNE"]
[null,null,"KAPUSTA CZERWONA",1,"kg",10,9.2000000000000011,0.08,100,"g/szt.",1,0.92000000000000015,null,{"$f":"'[1]KBB (Google)'!J48","v":0},0,0,{"$f":"'[1]KBB (Google)'!M48","v":0},"DANE NIEPEŁNE"]
[null,null,"JAJA",1,"szt.",10,9.2000000000000011,0.08,100,"g/szt.",1,0.92000000000000015,null,{"$f":"'[1]KBB (Google)'!J49","v":0},0,0,{"$f":"'[1]KBB (Google)'!M49","v":0},"DANE NIEPEŁNE"]
[null,null,"CZOSNEK OB",1,"kg",10,9.2000000000000011,0.08,100,"g/szt.",1,0.92000000000000015,null,{"$f":"'[1]KBB (Google)'!J50","v":0},0,0,{"$f":"'[1]KBB (Google)'!M50","v":0},"DANE NIEPEŁNE"]
[null,null,"FOLIA spożywcza",2,"szt.",10,9.2000000000000011,0.08,100,"g/szt.",0.5,0.46000000000000008,null,{"$f":"'[1]KBB (Google)'!J51","v":0},0,0,{"$f":"'[1]KBB (Google)'!M51","v":0},"DANE NIEPEŁNE"]
[null,null,"OPAKOWANIE ",100,"szt.",10,9.2000000000000011,0.08,100,"g/szt.",0.01,9.2000000000000016E-3,null,{"$f":"'[1]KBB (Google)'!J52","v":0},0,0,{"$f":"'[1]KBB (Google)'!M52","v":0},"DANE NIEPEŁNE"]
[null,null,"BOX",100,"szt.",10,9.2000000000000011,0.08,100,"g/szt.",0.01,9.2000000000000016E-3,null,{"$f":"'[1]KBB (Google)'!J53","v":0},0,0,{"$f":"'[1]KBB (Google)'!M53","v":0},"DANE NIEPEŁNE"]
[null,null,null,null,null,null,0,null,null,null,null,null,null,{"$f":"'[1]KBB (Google)'!J54","v":0},0,0,{"$f":"'[1]KBB (Google)'!M54","v":0},"DANE NIEPEŁNE"]
[null,null,null,null,null,null,0,null,null,null,null,null,null,{"$f":"'[1]KBB (Google)'!J55","v":0},0,0,{"$f":"'[1]KBB (Google)'!M55","v":0},"DANE NIEPEŁNE"]
[null,null,null,null,null,null,0,null,null,null,null,null,null,{"$f":"'[1]KBB (Google)'!J56","v":0},0,0,{"$f":"'[1]KBB (Google)'!M56","v":0},"DANE NIEPEŁNE"]
[null,null,null,null,null,null,0,null,null,null,null,null,null,{"$f":"'[1]KBB (Google)'!J57","v":0},0,0,{"$f":"'[1]KBB (Google)'!M57","v":0},"DANE NIEPEŁNE"]
[null,null,null,null,null,null,0,null,null,null,null,null,null,{"$f":"'[1]KBB (Google)'!J58","v":0},0,0,{"$f":"'[1]KBB (Google)'!M58","v":0},"DANE NIEPEŁNE"]
[null,null,null,null,null,null,0,null,null,null,null,null,null,{"$f":"'[1]KBB (Google)'!J59","v":0},0,0,{"$f":"'[1]KBB (Google)'!M59","v":0},"DANE NIEPEŁNE"]
[null,null,null,null,null,null,0,null,null,null,null,null,null,{"$f":"'[1]KBB (Google)'!J60","v":0},0,0,{"$f":"'[1]KBB (Google)'!M60","v":0},"DANE NIEPEŁNE"]
[null,null,null,null,null,null,0,null,null,null,null,null,null,{"$f":"'[1]KBB (Google)'!J61","v":0},0,0,{"$f":"'[1]KBB (Google)'!M61","v":0},"DANE NIEPEŁNE"]
[null,null,null,null,null,null,0,null,null,null,null,null,null,{"$f":"'[1]KBB (Google)'!J62","v":0},0,0,{"$f":"'[1]KBB (Google)'!M62","v":0},"DANE NIEPEŁNE"]
[null,null,null,null,null,null,0,null,null,null,null,null,null,{"$f":"'[1]KBB (Google)'!J63","v":0},0,0,{"$f":"'[1]KBB (Google)'!M63","v":0},"DANE NIEPEŁNE"]
[null,null,null,null,null,null,0,null,null,null,null,null,null,{"$f":"'[1]KBB (Google)'!J64","v":0},0,0,{"$f":"'[1]KBB (Google)'!M64","v":0},"DANE NIEPEŁNE"]
[null,null,null,null,null,null,0,null,null,null,null,null,null,{"$f":"'[1]KBB (Google)'!J65","v":0},0,0,{"$f":"'[1]KBB (Google)'!M65","v":0},"DANE NIEPEŁNE"]
[null,null,null,null,null,null,0,null,null,null,null,null,null,{"$f":"'[1]KBB (Google)'!J66","v":0},0,0,{"$f":"'[1]KBB (Google)'!M66","v":0},"DANE NIEPEŁNE"]
[null,null,null,null,null,null,{"$f":"F69*(1-H69)","v":0},null,null,null,null,null,null,{"$f":"'[1]KBB (Google)'!J67","v":0},0,0,{"$f":"'[1]KBB (Google)'!M67","v":0},"DANE NIEPEŁNE"]
[null,null,null,null,null,null,0,null,null,null,null,null,null,{"$f":"'[1]KBB (Google)'!J68","v":0},0,0,{"$f":"'[1]KBB (Google)'!M68","v":0},"DANE NIEPEŁNE"]
[null,null,null,null,null,null,0,null,null,null,null,null,null,{"$f":"'[1]KBB (Google)'!J69","v":0},0,0,{"$f":"'[1]KBB (Google)'!M69","v":0},"DANE NIEPEŁNE"]
[null,null,null,null,null,null,0,null,null,null,null,null,null,{"$f":"'[1]KBB (Google)'!J70","v":0},0,0,{"$f":"'[1]KBB (Google)'!M70","v":0},"DANE NIEPEŁNE"]
[null,null,null,null,null,null,0,null,null,null,null,null,null,{"$f":"'[1]KBB (Google)'!J71","v":0},0,0,{"$f":"'[1]KBB (Google)'!M71","v":0},"DANE NIEPEŁNE"]
[null,null,null,null,null,null,0,null,null,null,null,null,null,{"$f":"'[1]KBB (Google)'!J72","v":0},0,0,{"$f":"'[1]KBB (Google)'!M72","v":0},"DANE NIEPEŁNE"]
[null,null,null,null,null,null,0,null,null,null,null,null,null,{"$f":"'[1]KBB (Google)'!J73","v":0},0,0,{"$f":"'[1]KBB (Google)'!M73","v":0},"DANE NIEPEŁNE"]
[null,null,null,null,null,null,0,null,null,null,null,null,null,{"$f":"'[1]KBB (Google)'!J74","v":0},0,0,{"$f":"'[1]KBB (Google)'!M74","v":0},"DANE NIEPEŁNE"]
[null,null,null,null,null,null,0,null,null,null,null,null,null,{"$f":"'[1]KBB (Google)'!J75","v":0},0,0,{"$f":"'[1]KBB (Google)'!M75","v":0},"DANE NIEPEŁNE"]
[null,null,null,null,null,null,0,null,null,null,null,null,null,{"$f":"'[1]KBB (Google)'!J76","v":0},0,0,{"$f":"'[1]KBB (Google)'!M76","v":0},"DANE NIEPEŁNE"]
[null,null,null,null,null,null,0,null,null,null,null,null,null,{"$f":"'[1]KBB (Google)'!J77","v":0},0,0,{"$f":"'[1]KBB (Google)'!M77","v":0},"DANE NIEPEŁNE"]
[null,null,null,null,null,null,0,null,null,null,null,null,null,{"$f":"'[1]KBB (Google)'!J78","v":0},0,0,{"$f":"'[1]KBB (Google)'!M78","v":0},"DANE NIEPEŁNE"]
[null,null,null,null,null,null,0,null,null,null,null,null,null,{"$f":"'[1]KBB (Google)'!J79","v":0},0,0,{"$f":"'[1]KBB (Google)'!M79","v":0},"DANE NIEPEŁNE"]
[null,null,null,null,null,null,0,null,null,null,null,null,null,{"$f":"'[1]KBB (Google)'!J80","v":0},0,0,{"$f":"'[1]KBB (Google)'!M80","v":0},"DANE NIEPEŁNE"]
[null,null,null,null,null,null,0,null,null,null,null,null,null,{"$f":"'[1]KBB (Google)'!J81","v":0},0,0,{"$f":"'[1]KBB (Google)'!M81","v":0},"DANE NIEPEŁNE"]
[null,null,null,null,null,null,0,null,null,null,null,null,null,{"$f":"'[1]KBB (Google)'!J82","v":0},0,0,{"$f":"'[1]KBB (Google)'!M82","v":0},"DANE NIEPEŁNE"]
[null,null,null,null,null,null,0,null,null,null,null,null,null,{"$f":"'[1]KBB (Google)'!J83","v":0},0,0,{"$f":"'[1]KBB (Google)'!M83","v":0},"DANE NIEPEŁNE"]
[null,null,null,null,null,null,0,null,null,null,null,null,null,{"$f":"'[1]KBB (Google)'!J84","v":0},0,0,{"$f":"'[1]KBB (Google)'!M84","v":0},"DANE NIEPEŁNE"]
[null,null,null,null,null,null,0,null,null,null,null,null,null,{"$f":"'[1]KBB (Google)'!J85","v":0},0,0,{"$f":"'[1]KBB (Google)'!M85","v":0},"DANE NIEPEŁNE"]
[null,null,null,null,null,null,0,null,null,null,null,null,null,{"$f":"'[1]KBB (Google)'!J86","v":0},0,0,{"$f":"'[1]KBB (Google)'!M86","v":0},"DANE NIEPEŁNE"]
[null,null,null,null,null,null,0,null,null,null,null,null,null,{"$f":"'[1]KBB (Google)'!J87","v":0},0,0,{"$f":"'[1]KBB (Google)'!M87","v":0},"DANE NIEPEŁNE"]
[null,null,null,null,null,null,0,null,null,null,null,null,null,{"$f":"'[1]KBB (Google)'!J88","v":0},0,0,{"$f":"'[1]KBB (Google)'!M88","v":0},"DANE NIEPEŁNE"]
[null,null,null,null,null,null,0,null,null,null,null,null,null,{"$f":"'[1]KBB (Google)'!J89","v":0},0,0,{"$f":"'[1]KBB (Google)'!M89","v":0},"DANE NIEPEŁNE"]
[null,null,null,null,null,null,0,null,null,null,null,null,null,{"$f":"'[1]KBB (Google)'!J90","v":0},0,0,{"$f":"'[1]KBB (Google)'!M90","v":0},"DANE NIEPEŁNE"]
[null,null,null,null,null,null,0,null,null,null,null,null,null,{"$f":"'[1]KBB (Google)'!J91","v":0},{"$f":"N93*7","v":0},{"$f":"O93*30","v":0},{"$f":"'[1]KBB (Google)'!M91","v":0},{"$f":"IF(COUNTIF(N93:Q93,0)>0,\"DANE NIEPEŁNE\",\"OK\")","v":"DANE NIEPEŁNE"}]
[null,null,null,null,null,null,0,null,null,null,null,null,null,{"$f":"'[1]KBB (Google)'!J92","v":0},0,0,{"$f":"'[1]KBB (Google)'!M92","v":0},"DANE NIEPEŁNE"]
[null,null,null,null,null,null,0,null,null,null,null,null,null,{"$f":"'[1]KBB (Google)'!J93","v":0},0,0,{"$f":"'[1]KBB (Google)'!M93","v":0},"DANE NIEPEŁNE"]
[null,null,null,null,null,null,0,null,null,null,null,null,null,{"$f":"'[1]KBB (Google)'!J94","v":0},0,0,{"$f":"'[1]KBB (Google)'!M94","v":0},"DANE NIEPEŁNE"]
[null,null,null,null,null,null,0,null,null,null,null,null,null,{"$f":"'[1]KBB (Google)'!J95","v":0},0,0,{"$f":"'[1]KBB (Google)'!M95","v":0},"DANE NIEPEŁNE"]
[null,null,null,null,null,null,0,null,null,null,null,null,null,{"$f":"'[1]KBB (Google)'!J96","v":0},0,0,{"$f":"'[1]KBB (Google)'!M96","v":0},"DANE NIEPEŁNE"]
[null,null,null,null,null,null,0,null,null,null,null,null,null,{"$f":"'[1]KBB (Google)'!J97","v":0},0,0,{"$f":"'[1]KBB (Google)'!M97","v":0},"DANE NIEPEŁNE"]
[null,null,null,null,null,null,0,null,null,null,null,null,null,{"$f":"'[1]KBB (Google)'!J98","v":0},0,0,{"$f":"'[1]KBB (Google)'!M98","v":0},"DANE NIEPEŁNE"]
[null,null,null,null,null,null,0,null,null,null,null,null,null,{"$f":"'[1]KBB (Google)'!J99","v":0},0,0,{"$f":"'[1]KBB (Google)'!M99","v":0},"DANE NIEPEŁNE"]
[null,null,null,null,null,null,0,null,null,null,null,null,null,{"$f":"'[1]KBB (Google)'!J100","v":0},0,0,{"$f":"'[1]KBB (Google)'!M100","v":0},"DANE NIEPEŁNE"]
[null,null,null,null,null,null,0,null,null,null,null,null,null,{"$f":"'[1]KBB (Google)'!J101","v":0},0,0,{"$f":"'[1]KBB (Google)'!M101","v":0},"DANE NIEPEŁNE"]
[null,null,null,null,null,null,0,null,null,null,null,null,null,{"$f":"'[1]KBB (Google)'!J102","v":0},0,0,{"$f":"'[1]KBB (Google)'!M102","v":0},"DANE NIEPEŁNE"]
[null,null,null,null,null,null,0,null,null,null,null,null,null,{"$f":"'[1]KBB (Google)'!J103","v":0},0,0,{"$f":"'[1]KBB (Google)'!M103","v":0},"DANE NIEPEŁNE"]
[null,null,null,null,null,null,0,null,null,null,null,null,null,{"$f":"'[1]KBB (Google)'!J104","v":0},0,0,{"$f":"'[1]KBB (Google)'!M104","v":0},"DANE NIEPEŁNE"]
[null,null,null,null,null,null,0,null,null,null,null,null,null,{"$f":"'[1]KBB (Google)'!J105","v":0},0,0,{"$f":"'[1]KBB (Google)'!M105","v":0},"DANE NIEPEŁNE"]
[null,null,null,null,null,null,0,null,null,null,null,null,null,{"$f":"'[1]KBB (Google)'!J106","v":0},0,0,{"$f":"'[1]KBB (Google)'!M106","v":0},"DANE NIEPEŁNE"]
[null,null,null,null,null,null,0,null,null,null,null,null,null,{"$f":"'[1]KBB (Google)'!J107","v":0},0,0,{"$f":"'[1]KBB (Google)'!M107","v":0},"DANE NIEPEŁNE"]
[null,null,null,null,null,null,0,null,null,null,null,null,null,{"$f":"'[1]KBB (Google)'!J108","v":0},0,0,{"$f":"'[1]KBB (Google)'!M108","v":0},"DANE NIEPEŁNE"]
[null,null,null,null,null,null,0,null,null,null,null,null,null,{"$f":"'[1]KBB (Google)'!J109","v":0},0,0,{"$f":"'[1]KBB (Google)'!M109","v":0},"DANE NIEPEŁNE"]
[null,null,null,null,null,null,0,null,null,null,null,null,null,{"$f":"'[1]KBB (Google)'!J110","v":0},0,0,{"$f":"'[1]KBB (Google)'!M110","v":0},"DANE NIEPEŁNE"]
[null,null,null,null,null,null,0,null,null,null,null,null,null,{"$f":"'[1]KBB (Google)'!J111","v":0},0,0,{"$f":"'[1]KBB (Google)'!M111","v":0},"DANE NIEPEŁNE"]
[null,null,null,null,null,null,0,null,null,null,null,null,null,{"$f":"'[1]KBB (Google)'!J112","v":0},0,0,{"$f":"'[1]KBB (Google)'!M112","v":0},"DANE NIEPEŁNE"]
[null,null,null,null,null,null,0,null,null,null,null,null,null,{"$f":"'[1]KBB (Google)'!J113","v":0},0,0,{"$f":"'[1]KBB (Google)'!M113","v":0},"DANE NIEPEŁNE"]
[null,null,null,null,null,null,0,null,null,null,null,null,null,{"$f":"'[1]KBB (Google)'!J114","v":0},0,0,{"$f":"'[1]KBB (Google)'!M114","v":0},"DANE NIEPEŁNE"]
[null,null,null,null,null,null,0,null,null,null,null,null,null,{"$f":"'[1]KBB (Google)'!J115","v":0},0,0,{"$f":"'[1]KBB (Google)'!M115","v":0},"DANE NIEPEŁNE"]
[null,null,null,null,null,null,0,null,null,null,null,null,null,{"$f":"'[1]KBB (Google)'!J116","v":0},0,0,{"$f":"'[1]KBB (Google)'!M116","v":0},"DANE NIEPEŁNE"]
[null,null,null,null,null,null,0,null,null,null,null,null,null,{"$f":"'[1]KBB (Google)'!J117","v":0},0,0,{"$f":"'[1]KBB (Google)'!M117","v":0},"DANE NIEPEŁNE"]
[null,null,null,null,null,null,0,null,null,null,null,null,null,{"$f":"'[1]KBB (Google)'!J118","v":0},0,0,{"$f":"'[1]KBB (Google)'!M118","v":0},"DANE NIEPEŁNE"]
[null,null,null,null,null,null,0,null,null,null,null,null,null,{"$f":"'[1]KBB (Google)'!J119","v":0},0,0,{"$f":"'[1]KBB (Google)'!M119","v":0},"DANE NIEPEŁNE"]
[null,null,null,null,null,null,0,null,null,null,null,null,null,{"$f":"'[1]KBB (Google)'!J120","v":0},0,0,{"$f":"'[1]KBB (Google)'!M120","v":0},"DANE NIEPEŁNE"]
[null,null,null,null,null,null,0,null,null,null,null,null,null,{"$f":"'[1]KBB (Google)'!J121","v":0},0,0,{"$f":"'[1]KBB (Google)'!M121","v":0},"DANE NIEPEŁNE"]
[null,null,null,null,null,null,0,null,null,null,null,null,null,{"$f":"'[1]KBB (Google)'!J122","v":0},0,0,{"$f":"'[1]KBB (Google)'!M122","v":0},"DANE NIEPEŁNE"]
[null,null,null,null,null,null,0,null,null,null,null,null,null,{"$f":"'[1]KBB (Google)'!J123","v":0},0,0,{"$f":"'[1]KBB (Google)'!M123","v":0},"DANE NIEPEŁNE"]
[null,null,null,null,null,null,0,null,null,null,null,null,null,{"$f":"'[1]KBB (Google)'!J124","v":0},0,0,{"$f":"'[1]KBB (Google)'!M124","v":0},"DANE NIEPEŁNE"]
[null,null,null,null,null,null,0,null,null,null,null,null,null,{"$f":"'[1]KBB (Google)'!J125","v":0},0,0,{"$f":"'[1]KBB (Google)'!M125","v":0},"DANE NIEPEŁNE"]
[null,null,null,null,null,null,0,null,null,null,null,null,null,{"$f":"'[1]KBB (Google)'!J126","v":0},0,0,{"$f":"'[1]KBB (Google)'!M126","v":0},"DANE NIEPEŁNE"]
[null,null,null,null,null,null,0,null,null,null,null,null,null,{"$f":"'[1]KBB (Google)'!J127","v":0},0,0,{"$f":"'[1]KBB (Google)'!M127","v":0},"DANE NIEPEŁNE"]
[null,null,null,null,null,null,0,null,null,null,null,null,null,{"$f":"'[1]KBB (Google)'!J128","v":0},0,0,{"$f":"'[1]KBB (Google)'!M128","v":0},"DANE NIEPEŁNE"]
[null,null,null,null,null,null,0,null,null,null,null,null,null,{"$f":"'[1]KBB (Google)'!J129","v":0},0,0,{"$f":"'[1]KBB (Google)'!M129","v":0},"DANE NIEPEŁNE"]
[null,null,null,null,null,null,0,null,null,null,null,null,null,{"$f":"'[1]KBB (Google)'!J130","v":0},0,0,{"$f":"'[1]KBB (Google)'!M130","v":0},"DANE NIEPEŁNE"]
[null,null,null,null,null,null,{"$f":"F133*(1-H133)","v":0},null,null,null,null,null,null,{"$f":"'[1]KBB (Google)'!J131","v":0},0,0,{"$f":"'[1]KBB (Google)'!M131","v":0},"DANE NIEPEŁNE"]
[null,null,null,null,null,null,0,null,null,null,null,null,null,{"$f":"'[1]KBB (Google)'!J132","v":0},0,0,{"$f":"'[1]KBB (Google)'!M132","v":0},"DANE NIEPEŁNE"]
[null,null,null,null,null,null,0,null,null,null,null,null,null,{"$f":"'[1]KBB (Google)'!J133","v":0},0,0,{"$f":"'[1]KBB (Google)'!M133","v":0},"DANE NIEPEŁNE"]
[null,null,null,null,null,null,0,null,null,null,null,null,null,{"$f":"'[1]KBB (Google)'!J134","v":0},0,0,{"$f":"'[1]KBB (Google)'!M134","v":0},"DANE NIEPEŁNE"]
[null,null,null,null,null,null,0,null,null,null,null,null,null,{"$f":"'[1]KBB (Google)'!J135","v":0},0,0,{"$f":"'[1]KBB (Google)'!M135","v":0},"DANE NIEPEŁNE"]
[null,null,null,null,null,null,0,null,null,null,null,null,null,{"$f":"'[1]KBB (Google)'!J136","v":0},0,0,{"$f":"'[1]KBB (Google)'!M136","v":0},"DANE NIEPEŁNE"]
[null,null,null,null,null,null,0,null,null,null,null,null,null,{"$f":"'[1]KBB (Google)'!J137","v":0},0,0,{"$f":"'[1]KBB (Google)'!M137","v":0},"DANE NIEPEŁNE"]
[null,null,null,null,null,null,0,null,null,null,null,null,null,{"$f":"'[1]KBB (Google)'!J138","v":0},0,0,{"$f":"'[1]KBB (Google)'!M138","v":0},"DANE NIEPEŁNE"]
[null,null,null,null,null,null,0,null,null,null,null,null,null,{"$f":"'[1]KBB (Google)'!J139","v":0},0,0,{"$f":"'[1]KBB (Google)'!M139","v":0},"DANE NIEPEŁNE"]
[null,null,null,null,null,null,0,null,null,null,null,null,null,{"$f":"'[1]KBB (Google)'!J140","v":0},0,0,{"$f":"'[1]KBB (Google)'!M140","v":0},"DANE NIEPEŁNE"]
[null,null,null,null,null,null,0,null,null,null,null,null,null,{"$f":"'[1]KBB (Google)'!J141","v":0},0,0,{"$f":"'[1]KBB (Google)'!M141","v":0},"DANE NIEPEŁNE"]
[null,null,null,null,null,null,0,null,null,null,null,null,null,{"$f":"'[1]KBB (Google)'!J142","v":0},0,0,{"$f":"'[1]KBB (Google)'!M142","v":0},"DANE NIEPEŁNE"]
[null,null,null,null,null,null,0,null,null,null,null,null,null,{"$f":"'[1]KBB (Google)'!J143","v":0},0,0,{"$f":"'[1]KBB (Google)'!M143","v":0},"DANE NIEPEŁNE"]
[null,null,null,null,null,null,0,null,null,null,null,null,null,{"$f":"'[1]KBB (Google)'!J144","v":0},0,0,{"$f":"'[1]KBB (Google)'!M144","v":0},"DANE NIEPEŁNE"]
[null,null,null,null,null,null,0,null,null,null,null,null,null,{"$f":"'[1]KBB (Google)'!J145","v":0},0,0,{"$f":"'[1]KBB (Google)'!M145","v":0},"DANE NIEPEŁNE"]
[null,null,null,null,null,null,0,null,null,null,null,null,null,{"$f":"'[1]KBB (Google)'!J146","v":0},0,0,{"$f":"'[1]KBB (Google)'!M146","v":0},"DANE NIEPEŁNE"]
[null,null,null,null,null,null,0,null,null,null,null,null,null,{"$f":"'[1]KBB (Google)'!J147","v":0},0,0,{"$f":"'[1]KBB (Google)'!M147","v":0},"DANE NIEPEŁNE"]
[null,null,null,null,null,null,0,null,null,null,null,null,null,{"$f":"'[1]KBB (Google)'!J148","v":0},0,0,{"$f":"'[1]KBB (Google)'!M148","v":0},"DANE NIEPEŁNE"]
[null,null,null,null,null,null,0,null,null,null,null,null,null,{"$f":"'[1]KBB (Google)'!J149","v":0},0,0,{"$f":"'[1]KBB (Google)'!M149","v":0},"DANE NIEPEŁNE"]
[null,null,null,null,null,null,0,null,null,null,null,null,null,{"$f":"'[1]KBB (Google)'!J150","v":0},0,0,{"$f":"'[1]KBB (Google)'!M150","v":0},"DANE NIEPEŁNE"]
[null,null,null,null,null,null,0,null,null,null,null,null,null,{"$f":"'[1]KBB (Google)'!J151","v":0},0,0,{"$f":"'[1]KBB (Google)'!M151","v":0},"DANE NIEPEŁNE"]
[null,null,null,null,null,null,0,null,null,null,null,null,null,{"$f":"'[1]KBB (Google)'!J152","v":0},0,0,{"$f":"'[1]KBB (Google)'!M152","v":0},"DANE NIEPEŁNE"]
[null,null,null,null,null,null,0,null,null,null,null,null,null,{"$f":"'[1]KBB (Google)'!J153","v":0},0,0,{"$f":"'[1]KBB (Google)'!M153","v":0},"DANE NIEPEŁNE"]
[null,null,null,null,null,null,0,null,null,null,null,null,null,{"$f":"'[1]KBB (Google)'!J154","v":0},0,0,{"$f":"'[1]KBB (Google)'!M154","v":0},"DANE NIEPEŁNE"]
[null,null,null,null,null,null,0,null,null,null,null,null,null,{"$f":"'[1]KBB (Google)'!J155","v":0},{"$f":"N157*7","v":0},{"$f":"O157*30","v":0},{"$f":"'[1]KBB (Google)'!M155","v":0},{"$f":"IF(COUNTIF(N157:Q157,0)>0,\"DANE NIEPEŁNE\",\"OK\")","v":"DANE NIEPEŁNE"}]
[null,null,null,null,null,null,0,null,null,null,null,null,null,{"$f":"'[1]KBB (Google)'!J156","v":0},0,0,{"$f":"'[1]KBB (Google)'!M156","v":0},"DANE NIEPEŁNE"]
[null,null,null,null,null,null,0,null,null,null,null,null,null,{"$f":"'[1]KBB (Google)'!J157","v":0},0,0,{"$f":"'[1]KBB (Google)'!M157","v":0},"DANE NIEPEŁNE"]
[null,null,null,null,null,null,0,null,null,null,null,null,null,{"$f":"'[1]KBB (Google)'!J158","v":0},0,0,{"$f":"'[1]KBB (Google)'!M158","v":0},"DANE NIEPEŁNE"]
[null,null,null,null,null,null,0,null,null,null,null,null,null,{"$f":"'[1]KBB (Google)'!J159","v":0},0,0,{"$f":"'[1]KBB (Google)'!M159","v":0},"DANE NIEPEŁNE"]
[null,null,null,null,null,null,0,null,null,null,null,null,null,{"$f":"'[1]KBB (Google)'!J160","v":0},0,0,{"$f":"'[1]KBB (Google)'!M160","v":0},"DANE NIEPEŁNE"]
[null,null,null,null,null,null,0,null,null,null,null,null,null,{"$f":"'[1]KBB (Google)'!J161","v":0},0,0,{"$f":"'[1]KBB (Google)'!M161","v":0},"DANE NIEPEŁNE"]
[null,null,null,null,null,null,0,null,null,null,null,null,null,{"$f":"'[1]KBB (Google)'!J162","v":0},0,0,{"$f":"'[1]KBB (Google)'!M162","v":0},"DANE NIEPEŁNE"]
[null,null,null,null,null,null,0,null,null,null,null,null,null,{"$f":"'[1]KBB (Google)'!J163","v":0},0,0,{"$f":"'[1]KBB (Google)'!M163","v":0},"DANE NIEPEŁNE"]
[null,null,null,null,null,null,0,null,null,null,null,null,null,{"$f":"'[1]KBB (Google)'!J164","v":0},0,0,{"$f":"'[1]KBB (Google)'!M164","v":0},"DANE NIEPEŁNE"]
[null,null,null,null,null,null,0,null,null,null,null,null,null,{"$f":"'[1]KBB (Google)'!J165","v":0},0,0,{"$f":"'[1]KBB (Google)'!M165","v":0},"DANE NIEPEŁNE"]
[null,null,null,null,null,null,0,null,null,null,null,null,null,{"$f":"'[1]KBB (Google)'!J166","v":0},0,0,{"$f":"'[1]KBB (Google)'!M166","v":0},"DANE NIEPEŁNE"]
[null,null,null,null,null,null,0,null,null,null,null,null,null,{"$f":"'[1]KBB (Google)'!J167","v":0},0,0,{"$f":"'[1]KBB (Google)'!M167","v":0},"DANE NIEPEŁNE"]
[null,null,null,null,null,null,0,null,null,null,null,null,null,{"$f":"'[1]KBB (Google)'!J168","v":0},0,0,{"$f":"'[1]KBB (Google)'!M168","v":0},"DANE NIEPEŁNE"]
[null,null,null,null,null,null,0,null,null,null,null,null,null,{"$f":"'[1]KBB (Google)'!J169","v":0},0,0,{"$f":"'[1]KBB (Google)'!M169","v":0},"DANE NIEPEŁNE"]
[null,null,null,null,null,null,0,null,null,null,null,null,null,{"$f":"'[1]KBB (Google)'!J170","v":0},0,0,{"$f":"'[1]KBB (Google)'!M170","v":0},"DANE NIEPEŁNE"]
[null,null,null,null,null,null,0,null,null,null,null,null,null,{"$f":"'[1]KBB (Google)'!J171","v":0},0,0,{"$f":"'[1]KBB (Google)'!M171","v":0},"DANE NIEPEŁNE"]
[null,null,null,null,null,null,0,null,null,null,null,null,null,{"$f":"'[1]KBB (Google)'!J172","v":0},0,0,{"$f":"'[1]KBB (Google)'!M172","v":0},"DANE NIEPEŁNE"]
[null,null,null,null,null,null,0,null,null,null,null,null,null,{"$f":"'[1]KBB (Google)'!J173","v":0},0,0,{"$f":"'[1]KBB (Google)'!M173","v":0},"DANE NIEPEŁNE"]
[null,null,null,null,null,null,0,null,null,null,null,null,null,{"$f":"'[1]KBB (Google)'!J174","v":0},0,0,{"$f":"'[1]KBB (Google)'!M174","v":0},"DANE NIEPEŁNE"]
[null,null,null,null,null,null,0,null,null,null,null,null,null,{"$f":"'[1]KBB (Google)'!J175","v":0},0,0,{"$f":"'[1]KBB (Google)'!M175","v":0},"DANE NIEPEŁNE"]
[null,null,null,null,null,null,0,null,null,null,null,null,null,{"$f":"'[1]KBB (Google)'!J176","v":0},0,0,{"$f":"'[1]KBB (Google)'!M176","v":0},"DANE NIEPEŁNE"]
[null,null,null,null,null,null,0,null,null,null,null,null,null,{"$f":"'[1]KBB (Google)'!J177","v":0},0,0,{"$f":"'[1]KBB (Google)'!M177","v":0},"DANE NIEPEŁNE"]
[null,null,null,null,null,null,0,null,null,null,null,null,null,{"$f":"'[1]KBB (Google)'!J178","v":0},0,0,{"$f":"'[1]KBB (Google)'!M178","v":0},"DANE NIEPEŁNE"]
[null,null,null,null,null,null,0,null,null,null,null,null,null,{"$f":"'[1]KBB (Google)'!J179","v":0},0,0,{"$f":"'[1]KBB (Google)'!M179","v":0},"DANE NIEPEŁNE"]
[null,null,null,null,null,null,0,null,null,null,null,null,null,{"$f":"'[1]KBB (Google)'!J180","v":0},0,0,{"$f":"'[1]KBB (Google)'!M180","v":0},"DANE NIEPEŁNE"]
[null,null,null,null,null,null,0,null,null,null,null,null,null,{"$f":"'[1]KBB (Google)'!J181","v":0},0,0,{"$f":"'[1]KBB (Google)'!M181","v":0},"DANE NIEPEŁNE"]
[null,null,null,null,null,null,0,null,null,null,null,null,null,{"$f":"'[1]KBB (Google)'!J182","v":0},0,0,{"$f":"'[1]KBB (Google)'!M182","v":0},"DANE NIEPEŁNE"]
[null,null,null,null,null,null,0,null,null,null,null,null,null,{"$f":"'[1]KBB (Google)'!J183","v":0},0,0,{"$f":"'[1]KBB (Google)'!M183","v":0},"DANE NIEPEŁNE"]
[null,null,null,null,null,null,0,null,null,null,null,null,null,{"$f":"'[1]KBB (Google)'!J184","v":0},0,0,{"$f":"'[1]KBB (Google)'!M184","v":0},"DANE NIEPEŁNE"]
[null,null,null,null,null,null,0,null,null,null,null,null,null,{"$f":"'[1]KBB (Google)'!J185","v":0},0,0,{"$f":"'[1]KBB (Google)'!M185","v":0},"DANE NIEPEŁNE"]
[null,null,null,null,null,null,0,null,null,null,null,null,null,{"$f":"'[1]KBB (Google)'!J186","v":0},0,0,{"$f":"'[1]KBB (Google)'!M186","v":0},"DANE NIEPEŁNE"]
[null,null,null,null,null,null,0,null,null,null,null,null,null,{"$f":"'[1]KBB (Google)'!J187","v":0},0,0,{"$f":"'[1]KBB (Google)'!M187","v":0},"DANE NIEPEŁNE"]
[null,null,null,null,null,null,0,null,null,null,null,null,null,{"$f":"'[1]KBB (Google)'!J188","v":0},0,0,{"$f":"'[1]KBB (Google)'!M188","v":0},"DANE NIEPEŁNE"]
[null,null,null,null,null,null,0,null,null,null,null,null,null,{"$f":"'[1]KBB (Google)'!J189","v":0},0,0,{"$f":"'[1]KBB (Google)'!M189","v":0},"DANE NIEPEŁNE"]
[null,null,null,null,null,null,0,null,null,null,null,null,null,{"$f":"'[1]KBB (Google)'!J190","v":0},0,0,{"$f":"'[1]KBB (Google)'!M190","v":0},"DANE NIEPEŁNE"]
[null,null,null,null,null,null,0,null,null,null,null,null,null,{"$f":"'[1]KBB (Google)'!J191","v":0},0,0,{"$f":"'[1]KBB (Google)'!M191","v":0},"DANE NIEPEŁNE"]
[null,null,null,null,null,null,0,null,null,null,null,null,null,{"$f":"'[1]KBB (Google)'!J192","v":0},0,0,{"$f":"'[1]KBB (Google)'!M192","v":0},"DANE NIEPEŁNE"]
[null,null,null,null,null,null,0,null,null,null,null,null,null,{"$f":"'[1]KBB (Google)'!J193","v":0},0,0,{"$f":"'[1]KBB (Google)'!M193","v":0},"DANE NIEPEŁNE"]
[null,null,null,null,null,null,0,null,null,null,null,null,null,{"$f":"'[1]KBB (Google)'!J194","v":0},0,0,{"$f":"'[1]KBB (Google)'!M194","v":0},"DANE NIEPEŁNE"]
[null,null,null,null,null,null,{"$f":"F197*(1-H197)","v":0},null,null,null,null,null,null,{"$f":"'[1]KBB (Google)'!J195","v":0},0,0,{"$f":"'[1]KBB (Google)'!M195","v":0},"DANE NIEPEŁNE"]
[null,null,null,null,null,null,0,null,null,null,null,null,null,{"$f":"'[1]KBB (Google)'!J196","v":0},0,0,{"$f":"'[1]KBB (Google)'!M196","v":0},"DANE NIEPEŁNE"]
[null,null,null,null,null,null,0,null,null,null,null,null,null,{"$f":"'[1]KBB (Google)'!J197","v":0},0,0,{"$f":"'[1]KBB (Google)'!M197","v":0},"DANE NIEPEŁNE"]
[null,null,null,null,null,null,0,null,null,null,null,null,null,{"$f":"'[1]KBB (Google)'!J198","v":0},0,0,{"$f":"'[1]KBB (Google)'!M198","v":0},"DANE NIEPEŁNE"]